BEGIN:VCALENDAR
VERSION:2.0
PRODID:Spatie calendar-links
BEGIN:VEVENT
UID:5b1a16bec392a398d18a58d35dbf1e0f
SUMMARY:World Wide Rally May 15th Fort St John
DTSTAMP;TZID=America/Vancouver:20210515T130000
DTSTART;TZID=America/Vancouver:20210515T130000
DTEND;TZID=America/Vancouver:20210515T150000
END:VEVENT
END:VCALENDAR