BEGIN:VCALENDAR
VERSION:2.0
PRODID:Spatie calendar-links
BEGIN:VEVENT
UID:3edd0ccbc94f209c5656eb1aee8c8073
SUMMARY:World Wide Rally May 15th Halifax
DTSTAMP;TZID=America/Halifax:20210515T130000
DTSTART;TZID=America/Halifax:20210515T130000
DTEND;TZID=America/Halifax:20210515T150000
LOCATION:Halifax\, Nova Scotia\, Canada
END:VEVENT
END:VCALENDAR