BEGIN:VCALENDAR
VERSION:2.0
PRODID:Spatie calendar-links
BEGIN:VEVENT
UID:8e05311baa9e45d4c67af499ece0fa20
SUMMARY:World Wide Rally May 15th Windsor
DTSTAMP;TZID=America/Vancouver:20210515T120000
DTSTART;TZID=America/Vancouver:20210515T120000
DTEND;TZID=America/Vancouver:20210515T150000
LOCATION:1005 Ouellette Ave\, Windsor\, Ontario\, Canada
END:VEVENT
END:VCALENDAR