BEGIN:VCALENDAR
VERSION:2.0
PRODID:Spatie calendar-links
BEGIN:VEVENT
UID:bc315afc5cd18c9e30dfb4e8d43c2881
SUMMARY:World Wide Rally May 15th Sudbury
DTSTAMP;TZID=America/Toronto:20210515T120000
DTSTART;TZID=America/Toronto:20210515T120000
DTEND;TZID=America/Toronto:20210515T140000
LOCATION:Sudbury\, Ontario\, Canada
END:VEVENT
END:VCALENDAR