BEGIN:VCALENDAR
VERSION:2.0
PRODID:Spatie calendar-links
BEGIN:VEVENT
UID:b6d2692db4f1306c49054c4ea73cba0d
SUMMARY:World Wide Rally May 15th Nelson
DTSTAMP;TZID=America/Vancouver:20210515T120000
DTSTART;TZID=America/Vancouver:20210515T120000
DTEND;TZID=America/Vancouver:20210515T140000
LOCATION:310 Ward St.\, Nelson\, BC\, Canada
END:VEVENT
END:VCALENDAR