BEGIN:VCALENDAR
VERSION:2.0
PRODID:Spatie calendar-links
BEGIN:VEVENT
UID:a5390f996efa1fdbc72e0245f2467f6e
SUMMARY:World Wide Rally May 15th Quebec
DTSTAMP;TZID=America/Toronto:20210515T120000
DTSTART;TZID=America/Toronto:20210515T120000
DTEND;TZID=America/Toronto:20210515T160000
LOCATION:Canada
END:VEVENT
END:VCALENDAR