BEGIN:VCALENDAR
VERSION:2.0
PRODID:Spatie calendar-links
BEGIN:VEVENT
UID:a53c4625ccb2024715dc8dff6bc85299
SUMMARY:World Wide Rally May 15th Salt Spring Island
DTSTAMP;TZID=America/Vancouver:20210515T120000
DTSTART;TZID=America/Vancouver:20210515T120000
DTEND;TZID=America/Vancouver:20210515T150000
LOCATION:Salt Spring Island\, BC\, Canada
END:VEVENT
END:VCALENDAR