BEGIN:VCALENDAR
VERSION:2.0
PRODID:Spatie calendar-links
BEGIN:VEVENT
UID:74dd33c38e0e6f06bc36a35cc532474c
SUMMARY:Saturday Walk For Freedom Rallies Edmonton\, Alberta
DTSTAMP;TZID=America/Toronto:20210116T120000
DTSTART;TZID=America/Toronto:20210116T120000
DTEND;TZID=America/Toronto:20210116T150000
LOCATION:Edmonton\, AB\, Canada
END:VEVENT
END:VCALENDAR