BEGIN:VCALENDAR
VERSION:2.0
PRODID:Spatie calendar-links
BEGIN:VEVENT
UID:6f8cfcd8e8b4b26c5876093d103cde1a
SUMMARY:World Wide Rally May 15th Dartmouth
DTSTAMP;TZID=America/Halifax:20210515T130000
DTSTART;TZID=America/Halifax:20210515T130000
DTEND;TZID=America/Halifax:20210515T160000
LOCATION:Dartmouth\, Nova Scotia\, Canada
END:VEVENT
END:VCALENDAR