BEGIN:VCALENDAR
VERSION:2.0
PRODID:Spatie calendar-links
BEGIN:VEVENT
UID:7806107e090e922e33fe17dd4f2e1fa1
SUMMARY:World Wide Rally May 15th Kirkland Lake
DTSTAMP;TZID=America/Toronto:20210515T120000
DTSTART;TZID=America/Toronto:20210515T120000
DTEND;TZID=America/Toronto:20210515T150000
LOCATION:Kirkland Lake\, Ontario\, Canada
END:VEVENT
END:VCALENDAR