BEGIN:VCALENDAR
VERSION:2.0
PRODID:Spatie calendar-links
BEGIN:VEVENT
UID:590748448b592f15074255e8a06da2dd
SUMMARY:World Wide Rally May 15th Kelowna
DTSTAMP;TZID=America/Vancouver:20210515T120000
DTSTART;TZID=America/Vancouver:20210515T120000
DTEND;TZID=America/Vancouver:20210515T150000
LOCATION:Kelowna\, BC\, Canada
END:VEVENT
END:VCALENDAR