BEGIN:VCALENDAR
VERSION:2.0
PRODID:Spatie calendar-links
BEGIN:VEVENT
UID:b70f047be8fdffb0190473bf7acd8104
SUMMARY:World Wide Rally May 15th Timmins
DTSTAMP;TZID=America/Toronto:20210515T120000
DTSTART;TZID=America/Toronto:20210515T120000
DTEND;TZID=America/Toronto:20210515T150000
LOCATION:Timmins\, Ontario\, Canada
END:VEVENT
END:VCALENDAR