BEGIN:VCALENDAR
VERSION:2.0
PRODID:Spatie calendar-links
BEGIN:VEVENT
UID:113816cd95c0bcaffa44956098846829
SUMMARY:World Wide Rally May 15th Charlottetown
DTSTAMP;TZID=America/Halifax:20210515T120000
DTSTART;TZID=America/Halifax:20210515T120000
DTEND;TZID=America/Halifax:20210515T150000
LOCATION:Charlottetown\, Prince Edward Island\, Canada
END:VEVENT
END:VCALENDAR