BEGIN:VCALENDAR
VERSION:2.0
PRODID:Spatie calendar-links
BEGIN:VEVENT
UID:6a735b4ae703b80ca4180749489105d5
SUMMARY:World Wide Rally May 15th St John's
DTSTAMP;TZID=America/St_Johns:20210515T120000
DTSTART;TZID=America/St_Johns:20210515T120000
DTEND;TZID=America/St_Johns:20210515T150000
LOCATION:St John's\, Newfoundland and Labrador\, Canada
END:VEVENT
END:VCALENDAR