BEGIN:VCALENDAR
VERSION:2.0
PRODID:Spatie calendar-links
BEGIN:VEVENT
UID:ad738be88545bcf007509939b768f89e
SUMMARY:World Wide Rally May 15th Whitby
DTSTAMP;TZID=America/Toronto:20210515T120000
DTSTART;TZID=America/Toronto:20210515T120000
DTEND;TZID=America/Toronto:20210515T150000
LOCATION:605 Rossland Rd East\, Whitby\, Ontario\, Canada
END:VEVENT
END:VCALENDAR