BEGIN:VCALENDAR
VERSION:2.0
PRODID:Spatie calendar-links
BEGIN:VEVENT
UID:25dff4dbc6b4df32450152171c23197f
SUMMARY:Freedom Rally Sunset Beach May 15th
DTSTAMP;TZID=America/Vancouver:20210515T160000
DTSTART;TZID=America/Vancouver:20210515T160000
DTEND;TZID=America/Vancouver:20210515T200000
LOCATION:Vancouver\, BC\, Canada
END:VEVENT
END:VCALENDAR