BEGIN:VCALENDAR
VERSION:2.0
PRODID:Spatie calendar-links
BEGIN:VEVENT
UID:01bb43f52dc540ece7409bc6b6e30eb1
SUMMARY:CONVOY FOR LIFE
DTSTAMP;TZID=America/Los_Angeles:20210513T160000
DTSTART;TZID=America/Los_Angeles:20210513T160000
DTEND;TZID=America/Los_Angeles:20210513T190000
LOCATION:45585 Luckakuck Way\, Chilliwack\, British Columbia\, Canada
END:VEVENT
END:VCALENDAR