BEGIN:VCALENDAR
VERSION:2.0
PRODID:Spatie calendar-links
BEGIN:VEVENT
UID:20e225b1a44898d668643748483a4ab9
SUMMARY:Freedom Walk Calgary
DTSTAMP;TZID=America/Edmonton:20210110T130000
DTSTART;TZID=America/Edmonton:20210110T130000
DTEND;TZID=America/Edmonton:20210110T143000
LOCATION:606 4 Street Southwest\, Calgary\, AB\, Canada
END:VEVENT
END:VCALENDAR