BEGIN:VCALENDAR
VERSION:2.0
PRODID:Spatie calendar-links
BEGIN:VEVENT
UID:eadabde3b005ae6795115d825d9e27dd
SUMMARY:SUNSET BEACH FREEDOM RALLY & BAR-B-Q!
DTSTAMP;TZID=America/Los_Angeles:20210515T160000
DTSTART;TZID=America/Los_Angeles:20210515T160000
DTEND;TZID=America/Los_Angeles:20210515T200000
LOCATION:1204 Beach Ave\, Vancouver\, British Columbia\, Canada
END:VEVENT
END:VCALENDAR