BEGIN:VCALENDAR
VERSION:2.0
PRODID:Spatie calendar-links
BEGIN:VEVENT
UID:89e8d179c9d7a4392f9e57bc071a5aac
SUMMARY:Strengthen Your Intuition
DTSTAMP;TZID=America/Vancouver:20210516T120000
DTSTART;TZID=America/Vancouver:20210516T120000
DTEND;TZID=America/Vancouver:20210516T170000
LOCATION:3650 Douglas Rd\, Burnaby\, bc\, Canada
END:VEVENT
END:VCALENDAR