BEGIN:VCALENDAR
VERSION:2.0
PRODID:Spatie calendar-links
BEGIN:VEVENT
UID:ae058235880f41c168c31667cd22f344
SUMMARY:Fellowship of the Awake 
DTSTAMP;TZID=America/Vancouver:20210518T180000
DTSTART;TZID=America/Vancouver:20210518T180000
DTEND;TZID=America/Vancouver:20210518T200000
LOCATION:3650 Douglas rd\, Burnaby\, bc\, Canada
END:VEVENT
END:VCALENDAR