BEGIN:VCALENDAR
VERSION:2.0
PRODID:Spatie calendar-links
BEGIN:VEVENT
UID:7b9bba265416b6ee64b57ab58480081b
SUMMARY:Freedom Worship Rally May 16
DTSTAMP;TZID=America/Los_Angeles:20210516T110000
DTSTART;TZID=America/Los_Angeles:20210516T110000
DTEND;TZID=America/Los_Angeles:20210516T130000
LOCATION:1055 Canada Place\, Vancouver\, British Columbia\, Canada
END:VEVENT
END:VCALENDAR