BEGIN:VCALENDAR
VERSION:2.0
PRODID:Spatie calendar-links
BEGIN:VEVENT
UID:3885295aaf2776803293b188bb32a286
SUMMARY:Protest and Celebration - Chris Sky returns
DTSTAMP;TZID=America/Los_Angeles:20210523T150000
DTSTART;TZID=America/Los_Angeles:20210523T150000
DTEND;TZID=America/Los_Angeles:20210523T235900
LOCATION:1204  Beach Ave\, Vancouver\, British Columbia\, Canada
END:VEVENT
END:VCALENDAR