BEGIN:VCALENDAR
VERSION:2.0
PRODID:Spatie calendar-links
BEGIN:VEVENT
UID:4736a74639ff7a34958474c84ee723a0
SUMMARY:Sea to Sky Freedom Protestival May 22
DTSTAMP;TZID=America/Vancouver:20210522T120000
DTSTART;TZID=America/Vancouver:20210522T120000
DTEND;TZID=America/Vancouver:20210522T150000
LOCATION:Squamish\, BC\, Canada
END:VEVENT
END:VCALENDAR