BEGIN:VCALENDAR
VERSION:2.0
PRODID:Spatie calendar-links
BEGIN:VEVENT
UID:6342ab4e7b656bb1af5dfd105f9bd519
SUMMARY:Chris Ski in Edmonton May 26th
DTSTAMP;TZID=America/Edmonton:20210526T150000
DTSTART;TZID=America/Edmonton:20210526T150000
DTEND;TZID=America/Edmonton:20210526T180000
LOCATION:Edmonton\, Alberta\, Canada
END:VEVENT
END:VCALENDAR