BEGIN:VCALENDAR
VERSION:2.0
PRODID:Spatie calendar-links
BEGIN:VEVENT
UID:ddd549eeceb6f66b4375448bb349427d
SUMMARY:Saskatchewan Freedom Rally
DTSTAMP;TZID=America/Vancouver:20210116T140000
DTSTART;TZID=America/Vancouver:20210116T140000
DTEND;TZID=America/Vancouver:20210116T170000
LOCATION:Moose Jaw\, SK\, Canada
END:VEVENT
END:VCALENDAR