BEGIN:VCALENDAR
VERSION:2.0
PRODID:Spatie calendar-links
BEGIN:VEVENT
UID:8b30004b552d8e448a38567c1a2ae2d4
SUMMARY:Strengthen Your Intuition
DTSTAMP;TZID=America/Vancouver:20210523T120000
DTSTART;TZID=America/Vancouver:20210523T120000
DTEND;TZID=America/Vancouver:20210523T170000
LOCATION:3650 Douglas Rd.\, Burnaby\, BC\, Canada
END:VEVENT
END:VCALENDAR