BEGIN:VCALENDAR
VERSION:2.0
PRODID:Spatie calendar-links
BEGIN:VEVENT
UID:dd402580adba7f557f26a80ca3db8b1e
SUMMARY:#JustSayNoTour
DTSTAMP;TZID=America/Los_Angeles:20210524T180000
DTSTART;TZID=America/Los_Angeles:20210524T180000
DTEND;TZID=America/Los_Angeles:20210524T210000
LOCATION:1480 Mill St\, Kelowna\, British Columbia\, Canada
END:VEVENT
END:VCALENDAR