BEGIN:VCALENDAR
VERSION:2.0
PRODID:Spatie calendar-links
BEGIN:VEVENT
UID:96e8ff360ce36ca952efe77da3808f62
SUMMARY:Freedom for Truth Conference May 28
DTSTAMP;TZID=America/Vancouver:20210528T170000
DTSTART;TZID=America/Vancouver:20210528T170000
DTEND;TZID=America/Vancouver:20210528T200000
LOCATION:Canada
END:VEVENT
END:VCALENDAR