BEGIN:VCALENDAR
VERSION:2.0
PRODID:Spatie calendar-links
BEGIN:VEVENT
UID:a8c6810b6655d61e6e2914770b951434
SUMMARY:Barrie Family & Freedom Day May 22nd
DTSTAMP;TZID=America/Toronto:20210522T110000
DTSTART;TZID=America/Toronto:20210522T110000
DTEND;TZID=America/Toronto:20210522T140000
LOCATION:Barrie\, Ontario\, Canada
END:VEVENT
END:VCALENDAR