BEGIN:VCALENDAR
VERSION:2.0
PRODID:Spatie calendar-links
BEGIN:VEVENT
UID:60b5c804cf4fb8eeccde0747e0e8c0ba
SUMMARY:Walk for Freedom Calgary May 29th
DTSTAMP;TZID=America/Edmonton:20210529T130000
DTSTART;TZID=America/Edmonton:20210529T130000
DTEND;TZID=America/Edmonton:20210529T150000
LOCATION:Calgary\, Alberta\, Canada
END:VEVENT
END:VCALENDAR