BEGIN:VCALENDAR
VERSION:2.0
PRODID:Spatie calendar-links
BEGIN:VEVENT
UID:5b5a1ad48afcd0e0ded72a3434b29393
SUMMARY:No More Lockdowns May 24th Sudbury
DTSTAMP;TZID=America/Toronto:20210524T123000
DTSTART;TZID=America/Toronto:20210524T123000
DTEND;TZID=America/Toronto:20210524T150000
LOCATION:Sudbury\, Ontario\, Canada
END:VEVENT
END:VCALENDAR