BEGIN:VCALENDAR
VERSION:2.0
PRODID:Spatie calendar-links
BEGIN:VEVENT
UID:17a317c3f31d317d7acecd38c33aa6b7
SUMMARY:No More Lockdowns May 22nd Smith Falls
DTSTAMP;TZID=America/Vancouver:20210522T133000
DTSTART;TZID=America/Vancouver:20210522T133000
DTEND;TZID=America/Vancouver:20210522T160000
LOCATION:Smith Falls\, Ontario\, Canada
END:VEVENT
END:VCALENDAR