BEGIN:VCALENDAR
VERSION:2.0
PRODID:Spatie calendar-links
BEGIN:VEVENT
UID:467ded77765ead0482cc2400fd1cc9e1
SUMMARY:No More Lockdowns May 23rd Kingston
DTSTAMP;TZID=America/Toronto:20210523T140000
DTSTART;TZID=America/Toronto:20210523T140000
DTEND;TZID=America/Toronto:20210523T190000
LOCATION:Kingston\, Ontario\, Canada
END:VEVENT
END:VCALENDAR