BEGIN:VCALENDAR
VERSION:2.0
PRODID:Spatie calendar-links
BEGIN:VEVENT
UID:24515401005f8dc8188eb7c78dc23811
SUMMARY:Free The North May 22nd Toronto
DTSTAMP;TZID=America/Toronto:20210522T120000
DTSTART;TZID=America/Toronto:20210522T120000
DTEND;TZID=America/Toronto:20210522T150000
LOCATION:Toronto\, Ontario\, Canada
END:VEVENT
END:VCALENDAR