BEGIN:VCALENDAR
VERSION:2.0
PRODID:Spatie calendar-links
BEGIN:VEVENT
UID:77221ee7a746137a4650bfabce33e825
SUMMARY:Northern Freedom Alliance May 31st North Bay
DTSTAMP;TZID=America/Toronto:20210531T120000
DTSTART;TZID=America/Toronto:20210531T120000
DTEND;TZID=America/Toronto:20210531T150000
LOCATION:North Bay\, Ontario\, Canada
END:VEVENT
END:VCALENDAR