BEGIN:VCALENDAR
VERSION:2.0
PRODID:Spatie calendar-links
BEGIN:VEVENT
UID:1f570864159a4b8cfe0195bfd701d5cf
SUMMARY:Freedom Walk Calgary
DTSTAMP;TZID=America/Edmonton:20210117T130000
DTSTART;TZID=America/Edmonton:20210117T130000
DTEND;TZID=America/Edmonton:20210117T150000
LOCATION:Calgary\, AB\, Canada
END:VEVENT
END:VCALENDAR