BEGIN:VCALENDAR
VERSION:2.0
PRODID:Spatie calendar-links
BEGIN:VEVENT
UID:4f34deac5498fd6fc2b26f508c01861d
SUMMARY:FREEDOM WORSHIP RALLY
DTSTAMP;TZID=America/Los_Angeles:20210523T110000
DTSTART;TZID=America/Los_Angeles:20210523T110000
DTEND;TZID=America/Los_Angeles:20210523T130000
LOCATION:1085 CANADA PLACE\, Vancouver\, British Columbia\, Canada
END:VEVENT
END:VCALENDAR