BEGIN:VCALENDAR
VERSION:2.0
PRODID:Spatie calendar-links
BEGIN:VEVENT
UID:66d696c1dbf93fcea8b422478f246517
SUMMARY:Woodstock Official NML Concert May 30th
DTSTAMP;TZID=America/Toronto:20210530T140000
DTSTART;TZID=America/Toronto:20210530T140000
DTEND;TZID=America/Toronto:20210530T170000
LOCATION:475 Dundas St.\, Woodstock\, Ontario\, Canada
END:VEVENT
END:VCALENDAR