BEGIN:VCALENDAR
VERSION:2.0
PRODID:Spatie calendar-links
BEGIN:VEVENT
UID:2f150f5f250a84a6098c87de32c5a217
SUMMARY:Protect our Children
DTSTAMP;TZID=America/Los_Angeles:20210526T110000
DTSTART;TZID=America/Los_Angeles:20210526T110000
DTEND;TZID=America/Los_Angeles:20210526T140000
LOCATION:1580 West Broadway\, Vancouver\, British Columbia\, Canada
END:VEVENT
END:VCALENDAR