BEGIN:VCALENDAR
VERSION:2.0
PRODID:Spatie calendar-links
BEGIN:VEVENT
UID:529d7d5113449b97807ed7b3b64a7b34
SUMMARY:Support Our Kids Family Forum May 29th Langley
DTSTAMP;TZID=America/Vancouver:20210529T120000
DTSTART;TZID=America/Vancouver:20210529T120000
DTEND;TZID=America/Vancouver:20210529T150000
LOCATION:20550 Douglas Crescent\, Langley\, BC\, Canada
END:VEVENT
END:VCALENDAR