BEGIN:VCALENDAR
VERSION:2.0
PRODID:Spatie calendar-links
BEGIN:VEVENT
UID:81ec0dc06ca3379387772e7912e64e86
SUMMARY:Fit Camp Rally
DTSTAMP;TZID=America/Los_Angeles:20210528T173000
DTSTART;TZID=America/Los_Angeles:20210528T173000
DTEND;TZID=America/Los_Angeles:20210528T193000
LOCATION:1204 Beach Avenue\, Vancouver\, British Columbia\, Canada
END:VEVENT
END:VCALENDAR