BEGIN:VCALENDAR
VERSION:2.0
PRODID:Spatie calendar-links
BEGIN:VEVENT
UID:3b139770f252849e7645dd4677b04513
SUMMARY:Protect All Children
DTSTAMP;TZID=America/Los_Angeles:20210601T111100
DTSTART;TZID=America/Los_Angeles:20210601T111100
DTEND;TZID=America/Los_Angeles:20210601T130000
LOCATION:601 West Broadway Avenue\, Vancouver\, British Columbia\, Canada
END:VEVENT
END:VCALENDAR