BEGIN:VCALENDAR
VERSION:2.0
PRODID:Spatie calendar-links
BEGIN:VEVENT
UID:3baa34f277e436ce0146d3729923cb27
SUMMARY:Protest Against The New Abnormal Saturday May 29th
DTSTAMP;TZID=America/Edmonton:20210529T130000
DTSTART;TZID=America/Edmonton:20210529T130000
DTEND;TZID=America/Edmonton:20210529T160000
LOCATION:Edmonton\, Alberta\, Canada
END:VEVENT
END:VCALENDAR