BEGIN:VCALENDAR
VERSION:2.0
PRODID:Spatie calendar-links
BEGIN:VEVENT
UID:1bf799434341e13a2515c6a1ea504649
SUMMARY:Worship Protest Tour Edmonton\, Edson\, Prince George
DTSTAMP;TZID=America/Vancouver:20210609T110000
DTSTART;TZID=America/Vancouver:20210609T110000
DTEND;TZID=America/Vancouver:20210612T110000
LOCATION:Edmonton\, Alberta\, Canada
END:VEVENT
END:VCALENDAR