BEGIN:VCALENDAR
VERSION:2.0
PRODID:Spatie calendar-links
BEGIN:VEVENT
UID:93edce738a81b1b1f0f16931a0f8eaba
SUMMARY:Vancouver Art Gallery Freedom Rally
DTSTAMP;TZID=America/Vancouver:20201219T120000
DTSTART;TZID=America/Vancouver:20201219T120000
DTEND;TZID=America/Vancouver:20201219T160000
LOCATION:750 Hornby Street\, Vancouver\, BC\, Canada
END:VEVENT
END:VCALENDAR