BEGIN:VCALENDAR
VERSION:2.0
PRODID:Spatie calendar-links
BEGIN:VEVENT
UID:5303366acfd12606cb70d5fedf76cb5f
SUMMARY:Alberta Freedom Rally - Edmonton Legislature
DTSTAMP;TZID=America/Edmonton:20210220T160000
DTSTART;TZID=America/Edmonton:20210220T160000
DTEND;TZID=America/Edmonton:20210220T180000
LOCATION:10800 97 Avenue Northwest\, Edmonton\, AB\, Canada
END:VEVENT
END:VCALENDAR