BEGIN:VCALENDAR
VERSION:2.0
PRODID:Spatie calendar-links
BEGIN:VEVENT
UID:ee9eee0d94a964b3a557210cdd6700d2
SUMMARY:Support Small Businesses Day
DTSTAMP;TZID=America/Los_Angeles:20210614T000000
DTSTART;TZID=America/Los_Angeles:20210614T000000
DTEND;TZID=America/Los_Angeles:20210614T235900
END:VEVENT
END:VCALENDAR