BEGIN:VCALENDAR
VERSION:2.0
PRODID:Spatie calendar-links
BEGIN:VEVENT
UID:7b3717668d4e2010279936303e97d647
SUMMARY:A Free Canada Day Music Festival July 1st
DTSTAMP;TZID=America/Vancouver:20210701T130000
DTSTART;TZID=America/Vancouver:20210701T130000
DTEND;TZID=America/Vancouver:20210701T230000
LOCATION:1100 Chestnut St.\, Vancouver\, BC\, Canada
END:VEVENT
END:VCALENDAR