BEGIN:VCALENDAR
VERSION:2.0
PRODID:Spatie calendar-links
BEGIN:VEVENT
UID:4fbcffbc9a556452a3713502aff97ac3
SUMMARY:Freedom Worship Rally - May 30
DTSTAMP;TZID=America/Los_Angeles:20210530T110000
DTSTART;TZID=America/Los_Angeles:20210530T110000
DTEND;TZID=America/Los_Angeles:20210530T130000
LOCATION:1055 Canada Place\, Vancouver\, British Columbia\, Canada
END:VEVENT
END:VCALENDAR